BEGIN:VCALENDAR
VERSION:2.0
PRODID:-//Kalamalka Fly Fishers - ECPv6.11.1//NONSGML v1.0//EN
CALSCALE:GREGORIAN
METHOD:PUBLISH
X-ORIGINAL-URL:https://kalflyfishers.ca
X-WR-CALDESC:Events for Kalamalka Fly Fishers
REFRESH-INTERVAL;VALUE=DURATION:PT1H
X-Robots-Tag:noindex
X-PUBLISHED-TTL:PT1H
BEGIN:VTIMEZONE
TZID:UTC
BEGIN:STANDARD
TZOFFSETFROM:+0000
TZOFFSETTO:+0000
TZNAME:UTC
DTSTART:20230101T000000
END:STANDARD
END:VTIMEZONE
BEGIN:VEVENT
DTSTART;TZID=UTC:20230410T190000
DTEND;TZID=UTC:20230410T210000
DTSTAMP:20260420T035822
CREATED:20230112T051656Z
LAST-MODIFIED:20230112T061844Z
UID:4976-1681153200-1681160400@kalflyfishers.ca
SUMMARY:Closed
DESCRIPTION:Closed Easter Monday – Gone fly fishing.
URL:https://kalflyfishers.ca/event/closed-2/
CATEGORIES:Closed
END:VEVENT
END:VCALENDAR